BEGIN:VCALENDAR
VERSION:2.0
PRODID:spatie/icalendar-generator
DESCRIPTION:Events from NOTA
X-WR-CALDESC:Events from NOTA
REFRESH-INTERVAL;VALUE=DURATION:PT1440M
X-PUBLISHED-TTL:PT1440M
BEGIN:VTIMEZONE
TZID:America/Los_Angeles
BEGIN:STANDARD
DTSTART:20251102T020000Z
TZOFFSETFROM:-0700
TZOFFSETTO:-0800
END:STANDARD
BEGIN:DAYLIGHT
DTSTART:20260308T020000Z
TZOFFSETFROM:-0800
TZOFFSETTO:-0700
END:DAYLIGHT
END:VTIMEZONE
BEGIN:VTIMEZONE
TZID:UTC
BEGIN:STANDARD
DTSTART:20250725T133125Z
TZOFFSETFROM:+0000
TZOFFSETTO:+0000
END:STANDARD
END:VTIMEZONE
BEGIN:VEVENT
UID:108-14
DTSTAMP:20260421T133125Z
SUMMARY:NVOTA Alzheimer's Disease &amp;amp\; Dementia Care Seminar (04/12/2026)
LOCATION:Touro University Nevada OT Program 874 American Pacific Drive  Hen
 derson NV 89014
ORGANIZER;CN=Peggy McElgunn:MAILTO:peggymcelgunn@comcast.net
DTSTART;TZID=America/Los_Angeles:20260412T080000
DTEND;TZID=America/Los_Angeles:20260412T160000
X-ALT-DESC;FMTTYPE=TEXT/HTML:<p>This comprehensive\, evidence-based course 
 provides the foundation every professional needs to understand and support
  individuals living with Alzheimer’s disease and other dementias.</p>\n
CATEGORIES:Continuing Education
URL;VALUE=URI:https://www.nvota.org/mc-events/nvota-alzheimers-disease-deme
 ntia-care-seminar-04-12-2026/
METHOD:PUBLISH
END:VEVENT
END:VCALENDAR