BEGIN:VCALENDAR
VERSION:2.0
PRODID:spatie/icalendar-generator
DESCRIPTION:Events from NOTA
X-WR-CALDESC:Events from NOTA
REFRESH-INTERVAL;VALUE=DURATION:PT1440M
X-PUBLISHED-TTL:PT1440M
BEGIN:VTIMEZONE
TZID:America/Los_Angeles
BEGIN:STANDARD
DTSTART:20251102T020000Z
TZOFFSETFROM:-0700
TZOFFSETTO:-0800
END:STANDARD
BEGIN:DAYLIGHT
DTSTART:20260308T020000Z
TZOFFSETFROM:-0800
TZOFFSETTO:-0700
END:DAYLIGHT
END:VTIMEZONE
BEGIN:VTIMEZONE
TZID:UTC
BEGIN:STANDARD
DTSTART:20250725T141938Z
TZOFFSETFROM:+0000
TZOFFSETTO:+0000
END:STANDARD
END:VTIMEZONE
BEGIN:VEVENT
UID:127-18
DTSTAMP:20260421T141938Z
SUMMARY:NVOTA in Anaheim - April 2026
LOCATION:
ORGANIZER;CN=Peggy McElgunn:MAILTO:peggymcelgunn@comcast.net
DTSTART;TZID=America/Los_Angeles;VALUE=DATE:20260423
DTEND;TZID=America/Los_Angeles;VALUE=DATE:20260424
X-ALT-DESC;FMTTYPE=TEXT/HTML:Will You Be at AOTA's Annual Conference? Calli
 ng all Nevadians...Will you be in Anaheim at INSPIRE?  Let us know when y
 ou plan to arrive and depart -- we are planning a celebration together.  
 Tentatively we are planning to gather on the first day of Inspire (23 Apri
 l) at the Rooftop Bar RISE! There is no&amp;hellip\;
CATEGORIES:Networking
URL;VALUE=URI:https://www.nvota.org/mc-events/nvota-in-anaheim-april-2026/
METHOD:PUBLISH
END:VEVENT
END:VCALENDAR