BEGIN:VCALENDAR
VERSION:2.0
PRODID:spatie/icalendar-generator
DESCRIPTION:Events from NOTA
X-WR-CALDESC:Events from NOTA
REFRESH-INTERVAL;VALUE=DURATION:PT1440M
X-PUBLISHED-TTL:PT1440M
BEGIN:VTIMEZONE
TZID:America/Los_Angeles
BEGIN:STANDARD
DTSTART:20251102T020000Z
TZOFFSETFROM:-0700
TZOFFSETTO:-0800
END:STANDARD
BEGIN:DAYLIGHT
DTSTART:20260308T020000Z
TZOFFSETFROM:-0800
TZOFFSETTO:-0700
END:DAYLIGHT
END:VTIMEZONE
BEGIN:VTIMEZONE
TZID:UTC
BEGIN:STANDARD
DTSTART:20250725T124449Z
TZOFFSETFROM:+0000
TZOFFSETTO:+0000
END:STANDARD
END:VTIMEZONE
BEGIN:VEVENT
UID:160-21
DTSTAMP:20260421T124449Z
SUMMARY:NVOTA - Monthly Board Meeting
LOCATION:
ORGANIZER;CN=Rebecca Preddie:MAILTO:rebecca@gpsforgrowth.com
RRULE:FREQ=MONTHLY;BYDAY=3WE;UNTIL=20270218T000000Z
DTSTART;TZID=America/Los_Angeles:20260415T180000
DTEND;TZID=America/Los_Angeles:20260415T193000
X-ALT-DESC;FMTTYPE=TEXT/HTML:The Nevada Occupational Therapy Association in
 vites all members to join us for our monthly board meeting! This is your o
 pportunity to stay informed\, engaged\, and connected with the work being 
 done on behalf of occupational therapy practitioners and students across N
 evada. NOTA ~ Board Meeting Wednesday\, April 15 · 9:00 – 11:00pm Meeti
 ng link: https://meet.google.com/vmv-gfbf-bwa&amp;hellip\;
CATEGORIES:Continuing Education
URL;VALUE=URI:https://www.nvota.org/mc-events/nvota-monthly-board-meeting-2
 /?mc_id=160
METHOD:PUBLISH
END:VEVENT
END:VCALENDAR