BEGIN:VCALENDAR
VERSION:2.0
PRODID:spatie/icalendar-generator
DESCRIPTION:Events from NOTA
X-WR-CALDESC:Events from NOTA
REFRESH-INTERVAL;VALUE=DURATION:PT1440M
X-PUBLISHED-TTL:PT1440M
BEGIN:VTIMEZONE
TZID:America/Los_Angeles
BEGIN:STANDARD
DTSTART:20251102T020000Z
TZOFFSETFROM:-0700
TZOFFSETTO:-0800
END:STANDARD
BEGIN:DAYLIGHT
DTSTART:20260308T020000Z
TZOFFSETFROM:-0800
TZOFFSETTO:-0700
END:DAYLIGHT
END:VTIMEZONE
BEGIN:VTIMEZONE
TZID:UTC
BEGIN:STANDARD
DTSTART:20250725T141549Z
TZOFFSETFROM:+0000
TZOFFSETTO:+0000
END:STANDARD
END:VTIMEZONE
BEGIN:VEVENT
UID:181-22
DTSTAMP:20260421T141549Z
SUMMARY:NVOTA OT Month Gathering @ The Las Vegas Distillery -- DUE TO POWER
  OUT WE WILL NOW BE AT PARKWAY TAVERN ON 445 MARK ST (Henderson)
LOCATION:
ORGANIZER;CN=Rebecca Preddie:MAILTO:rebecca@gpsforgrowth.com
DTSTART;TZID=America/Los_Angeles:20260417T160000
DTEND;TZID=America/Los_Angeles:20260417T200000
X-ALT-DESC;FMTTYPE=TEXT/HTML:OT Month Gathering at the Las Vegas Distillery
  Celebrating Occupational Therapy Month with the Nevada OT Community The N
 evada Occupational Therapy Association (NVOTA) invites you to celebrate Oc
 cupational Therapy Month with an evening of connection\, community\, and a
  little Nevada spirit — literally! Join us at the iconic Las Vegas Disti
 llery PARKWAY TAVERN ON MARK&amp;hellip\;
CATEGORIES:Networking
URL;VALUE=URI:https://www.nvota.org/mc-events/nvota-ot-month-gathering-the-
 las-vegas-distillery-due-to-power-out-we-will-now-be-at-parkway-tavern-on-
 445-mark-st-henderson/
METHOD:PUBLISH
END:VEVENT
END:VCALENDAR