BEGIN:VCALENDAR
VERSION:2.0
PRODID:spatie/icalendar-generator
DESCRIPTION:Events from NOTA
X-WR-CALDESC:Events from NOTA
REFRESH-INTERVAL;VALUE=DURATION:PT1440M
X-PUBLISHED-TTL:PT1440M
BEGIN:VTIMEZONE
TZID:America/Los_Angeles
BEGIN:STANDARD
DTSTART:20251102T020000Z
TZOFFSETFROM:-0700
TZOFFSETTO:-0800
END:STANDARD
BEGIN:DAYLIGHT
DTSTART:20260308T020000Z
TZOFFSETFROM:-0800
TZOFFSETTO:-0700
END:DAYLIGHT
BEGIN:STANDARD
DTSTART:20261101T020000Z
TZOFFSETFROM:-0700
TZOFFSETTO:-0800
END:STANDARD
END:VTIMEZONE
BEGIN:VTIMEZONE
TZID:UTC
BEGIN:STANDARD
DTSTART:20250725T124418Z
TZOFFSETFROM:+0000
TZOFFSETTO:+0000
END:STANDARD
END:VTIMEZONE
BEGIN:VEVENT
UID:19-3
DTSTAMP:20260421T124418Z
SUMMARY:DEIJAB Committee Monthly Meeting
LOCATION:
ORGANIZER;CN=Kurt Jensen:MAILTO:kurtjensengps@gmail.com
RRULE:FREQ=MONTHLY;BYDAY=4WE;UNTIL=20261231T000000Z
DTSTART;TZID=America/Los_Angeles:20260527T180000
DTEND;TZID=America/Los_Angeles:20260527T190000
X-ALT-DESC;FMTTYPE=TEXT/HTML:<p>Join us for the Diversity\, Equity\, Inclus
 ion\, Justice\, Accessibility\, and Belonging (DEIJAB)\, meeting monthly o
 n the fourth Wednesday of the month from 6-7 PM. Open to all NOTA members\
 , the NOTA DEIJAB Committee meets monthly to discuss initiatives\, project
 s\, and strategies that promote a more inclusive and equitable environment
  in Nevada and worldwide.</p>\n
CATEGORIES:NOTA Committee
URL;VALUE=URI:https://www.nvota.org/mc-events/deijab-committee-monthly-meet
 ing/?mc_id=19
METHOD:PUBLISH
END:VEVENT
END:VCALENDAR