BEGIN:VCALENDAR
VERSION:2.0
PRODID:spatie/icalendar-generator
DESCRIPTION:Events from NOTA
X-WR-CALDESC:Events from NOTA
REFRESH-INTERVAL;VALUE=DURATION:PT1440M
X-PUBLISHED-TTL:PT1440M
BEGIN:VTIMEZONE
TZID:America/Los_Angeles
BEGIN:STANDARD
DTSTART:20251102T020000Z
TZOFFSETFROM:-0700
TZOFFSETTO:-0800
END:STANDARD
BEGIN:DAYLIGHT
DTSTART:20260308T020000Z
TZOFFSETFROM:-0800
TZOFFSETTO:-0700
END:DAYLIGHT
END:VTIMEZONE
BEGIN:VTIMEZONE
TZID:UTC
BEGIN:STANDARD
DTSTART:20250725T130416Z
TZOFFSETFROM:+0000
TZOFFSETTO:+0000
END:STANDARD
END:VTIMEZONE
BEGIN:VEVENT
UID:5-2
DTSTAMP:20260421T130416Z
SUMMARY:Advancement &amp;amp\; Innovation Committee Monthly Meeting
LOCATION:
ORGANIZER;CN=Kurt Jensen:MAILTO:kurtjensengps@gmail.com
RRULE:FREQ=MONTHLY;BYDAY=4TU;UNTIL=20261231T000000Z
DTSTART;TZID=America/Los_Angeles:20260428T180000
DTEND;TZID=America/Los_Angeles:20260428T190000
X-ALT-DESC;FMTTYPE=TEXT/HTML:<p>Join us for the NOTA Advancement &amp;amp\; Inn
 ovation Committee\, meeting monthly on the fourth Tuesday of the month fro
 m 6-7 PM. Open to all NOTA members\, this committee was established as par
 t of NOTA’s 2025 Strategic Plan to enhance advancement and innovation.</
 p>\n
CATEGORIES:NOTA Committee
URL;VALUE=URI:https://www.nvota.org/mc-events/advancement-innovation-commit
 tee-monthly-meeting/?mc_id=5
METHOD:PUBLISH
END:VEVENT
END:VCALENDAR