BEGIN:VCALENDAR
VERSION:2.0
PRODID:spatie/icalendar-generator
DESCRIPTION:Events from NOTA
X-WR-CALDESC:Events from NOTA
REFRESH-INTERVAL;VALUE=DURATION:PT1440M
X-PUBLISHED-TTL:PT1440M
BEGIN:VTIMEZONE
TZID:America/Los_Angeles
BEGIN:STANDARD
DTSTART:20251102T020000Z
TZOFFSETFROM:-0700
TZOFFSETTO:-0800
END:STANDARD
BEGIN:DAYLIGHT
DTSTART:20260308T020000Z
TZOFFSETFROM:-0800
TZOFFSETTO:-0700
END:DAYLIGHT
BEGIN:STANDARD
DTSTART:20261101T020000Z
TZOFFSETFROM:-0700
TZOFFSETTO:-0800
END:STANDARD
END:VTIMEZONE
BEGIN:VTIMEZONE
TZID:UTC
BEGIN:STANDARD
DTSTART:20250725T124325Z
TZOFFSETFROM:+0000
TZOFFSETTO:+0000
END:STANDARD
END:VTIMEZONE
BEGIN:VEVENT
UID:58-7
DTSTAMP:20260421T124325Z
SUMMARY:Advocacy Committee - Monthly Meeting
LOCATION:
ORGANIZER;CN=Rebecca Preddie:MAILTO:rebecca@gpsforgrowth.com
RRULE:FREQ=MONTHLY;BYDAY=2TH;UNTIL=20280113T000000Z
DTSTART;TZID=America/Los_Angeles:20260514T180000
DTEND;TZID=America/Los_Angeles:20260514T190000
X-ALT-DESC;FMTTYPE=TEXT/HTML:The NOTA Advocacy Committee is the collective 
 voice for Occupational Therapy in the Silver State. We are dedicated to am
 plifying the value of OT by engaging with policymakers\, payers\, and the 
 public to ensure that our profession is protected and our practitioners ar
 e empowered. As healthcare continues to evolve\, our committee serves as t
 he frontline&amp;hellip\;
CATEGORIES:NOTA Committee
URL;VALUE=URI:https://www.nvota.org/mc-events/advocacy-committee-monthly-me
 eting/?mc_id=58
METHOD:PUBLISH
END:VEVENT
END:VCALENDAR