BEGIN:VCALENDAR
VERSION:2.0
PRODID:spatie/icalendar-generator
DESCRIPTION:Events from NOTA
X-WR-CALDESC:Events from NOTA
REFRESH-INTERVAL;VALUE=DURATION:PT1440M
X-PUBLISHED-TTL:PT1440M
BEGIN:VTIMEZONE
TZID:America/Los_Angeles
BEGIN:STANDARD
DTSTART:20251102T020000Z
TZOFFSETFROM:-0700
TZOFFSETTO:-0800
END:STANDARD
BEGIN:DAYLIGHT
DTSTART:20260308T020000Z
TZOFFSETFROM:-0800
TZOFFSETTO:-0700
END:DAYLIGHT
END:VTIMEZONE
BEGIN:VTIMEZONE
TZID:UTC
BEGIN:STANDARD
DTSTART:20250725T143543Z
TZOFFSETFROM:+0000
TZOFFSETTO:+0000
END:STANDARD
END:VTIMEZONE
BEGIN:VEVENT
UID:80-8
DTSTAMP:20260421T143543Z
SUMMARY:Education Committee - Monthly Meeting
LOCATION:
ORGANIZER;CN=Rebecca Preddie:MAILTO:rebecca@gpsforgrowth.com
RRULE:FREQ=MONTHLY;BYDAY=3TU;UNTIL=20270217T000000Z
DTSTART;TZID=America/Los_Angeles:20260421T180000
DTEND;TZID=America/Los_Angeles:20260421T190000
X-ALT-DESC;FMTTYPE=TEXT/HTML:Join the NVOTA Education Committee works to en
 hance the quality\, relevance\, and accessibility of continuing education 
 opportunities for our state's occupational therapy practitioners. We work 
 collaboratively to identify emerging practice areas\, connect with expert 
 presenters\, and develop innovative learning experiences that meet the div
 erse needs of our members. NVOTA - Education Committee Monthly Meeting Tue
 sday\,&amp;hellip\;
CATEGORIES:NOTA Committee
URL;VALUE=URI:https://www.nvota.org/mc-events/education-committee-monthly-m
 eeting/?mc_id=80
METHOD:PUBLISH
END:VEVENT
END:VCALENDAR